BEGIN:VCALENDAR
VERSION:2.0
PRODID:-//Diana Vera - ECPv6.14.2//NONSGML v1.0//EN
CALSCALE:GREGORIAN
METHOD:PUBLISH
X-ORIGINAL-URL:https://dianavera.com
X-WR-CALDESC:Akce na Diana Vera
REFRESH-INTERVAL;VALUE=DURATION:PT1H
X-Robots-Tag:noindex
X-PUBLISHED-TTL:PT1H
BEGIN:VTIMEZONE
TZID:Europe/Prague
BEGIN:DAYLIGHT
TZOFFSETFROM:+0100
TZOFFSETTO:+0200
TZNAME:CEST
DTSTART:20260329T010000
END:DAYLIGHT
BEGIN:STANDARD
TZOFFSETFROM:+0200
TZOFFSETTO:+0100
TZNAME:CET
DTSTART:20261025T010000
END:STANDARD
END:VTIMEZONE
BEGIN:VEVENT
DTSTART;TZID=Europe/Prague:20260314T110000
DTEND;TZID=Europe/Prague:20260314T190000
DTSTAMP:20260422T150311
CREATED:20260217T120926Z
LAST-MODIFIED:20260217T134800Z
UID:3452-1773486000-1773514800@dianavera.com
SUMMARY:Pevné základy shibari - kurz pro začínající
DESCRIPTION:aneb balíček dovedností\, které chcete mít\, když začínáte s vázáním shibari. Tento workshop je branou k mým ostatním workshopům\, na kterých jste vítáni\, i pokud jste základy prošli jinde. Vždy kombinuji výuku techniky s prožitkovými cvičeními ve dvojici a sdílením ve skupině. Usiluji o bezpečný prostor a vědomý přístup.\n\n\n\n  \nRezervovat\n\n\n\n\n\n\n\nTermín\n\n14. 3. 2026\, 11:00 – 19:00 \nMísto konání\nAlive Kinbaku Dojo\, Praha – Letná\, přesná adresa vám dorazí v emailu\, který vám potvrdí\, že vaše registrace byla zaplacena. V den konání kurzu prosím o vaši DOCHVILNOST\, prostor je otevřený 30min před začátkem kurzu. Po začátku už nebudete vpuštěni dovnitř. V této lokalitě je doporučeno podívat se na parkovací zóny předem a nechat si na pohodové nalezení parkovacího místa dostatek časové rezervy. \nPokročilost\nVhodné pro naprosté začátečníky. Nicméně tento kurz si rádi opakují i mírně pokročilí\, například když si chtějí oživit techniku po té\, co delší dobu nevázali\, mají dojem\, že jim po prvním absolvování uvízlo málo nebo mají v úmyslu přijít s jiným partnerem nebo v jiné roli. \n  \nRezervovat\n\nObsah\nDen ve znamení odevzdání se a ovládnutí provazu jako nástroje. \nZe začátku vás zajímá nebo by určitě měla bezpečnost. Ke každému jednomu\núvazu si budeme říkat\, kde má rizikové faktory. Workshop by pro vás měl být rovněž\nbezpečným místem\, kde se můžete otevřít a jít naproti své orientaci a vyzkoušet si\nvěci\, které vás přitahují\, „pod odborným dohledem“. Mnoho z vás je po emoční\nstránce skvěle intuitivních\, jen potřebujete trochu technického know-how. \nNaučíme se proto funkční úvazy pro ruce\, nohy i pro celé tělo. Budeme se věnovat\nzpůsobům\, jak udržet v provazu napětí a tím ovládat\, co se děje ve vašem kontaktu s protějškem v daný okamžik. \nDalším pilířem\, o který se každé vázání opírá je ne/pohyb\, tzn. manipulace s tělem. Prakticky si ukážeme\, jak se do úvazu pohodlně\, bezpečně a smyslně dostat a co se s ním dá dělat dál. \nPoslední a nejdůležitější téma\, kterého se budeme průběžně dotýkat jsou hranice.\nVěnujeme pozornost tomu\, jak stanovovat\, komunikovat\, respektovat a vnímat hranice našich těl i našich duší. Budete zjišťovat\, co tvoří rámec vašeho vztahu\, jak se v něm pohybovat\, aby to bylo skutečně se souhlasem a pro potěšení obou. \n\n\n\n\n\n\n\n  \nRezervovat\n\n\nForma\n\n\n\n\n\n\nUkázky bude střídat výklad\, řízené sdílení a hlavně vaše praxe ve dvojicích. \nKurz je vhodný pro naprosté začátečníky i pro lidi\, kteří mají už několik kurzů\nza sebou. Jestli váháte\, zda už neumíte příliš mnoho\, pak vězte\, že každý z nás se\nučí specifickým způsobem a rychlostí. Někomu jde vše technické napoprvé hned\nzkraje\, jiný potřebuje několikeré opakování\, než pochopení z hlavy doteče až do těla. Někdo od prvního doteku vypíná logiku\, krásně si užívá společné flow\, ale co se probíralo si druhý den nepamatuje.\nMůže trvat\, než zjistíme\, který lektor nám sedí a jaký jsme typ studenta. Je skvělé si\nobčas věci zopakovat\, oprášit nebo si potvrdit\, co všechno už děláte dobře. Když se\nuž nemusíte pídit po samotném základu\, kudy vede provaz\, můžete si všímat detailů\na vychytávek\, které pro vás před tím byly neviditelné. \n  \nRegistrace\nNa dianavera.com přes rezervační systém. Páry si kupují 2 vstupy. Pokud se neznáme osobně\, připojte prosím informaci o svých zkušenostech a motivaci k vázání. \nSpeciálně na začátku jsou lidi nejčastěji bez vhodného protějšku. Pokud o workshop máte zájem\, ale jste single\, napište mi email na diana@dianavera.com\, kdo jste a s kým byste rádi vázali. Připojte informaci\, zda už máte nějaké praktické zkušenosti\, s bondage\, masážemi\, pohybem\, seberozvojovými kurzy. Uveďte\, odkud přibližně jste\, jak jste staří\, zda jste otevření střídání rolí nebo vázání se stejným pohlavím. Propojím vás s někým\, kdo mi taky napíše email\, že by rád šel\, ale nemá dvojici. Můžete se seznámit a přihlásit jako dvojice. \n\n\n\n\n\n\n\n  \nRezervovat\n\n\n\n\n\n\n\n\nS sebou\nŠátek na oči\, provazy\, co máte. Na místě budou po předchozí domluvě jutové\nprovazy ke koupi i k zapůjčení. Deku!! Pohodlné oblečení pro volný pohyb na zemi.\nPodložky jsou na místě. Vážeme bosí. \nKurzovné\n\n1800 Kč / 1 osoba \nČas\n11:00 – 19:00\, včetně 1 hod na oběd\, cca 14:00 – 15:00 \nStravování\nNa oběd můžeme vyrazit společně\, v těsné blízkosti Alive Kinbaku Dojo se nachází větší množství restaurací a kaváren. \n\n\n\n\n\n\n\n  \nRezervovat\n\n\n\n\n\n\n\n\n\n\n\n 
URL:https://dianavera.com/event/pevne-zaklady-shibari-kurz-pro-zacinajici-11/
ATTACH;FMTTYPE=image/jpeg:https://dianavera.com/wp-content/uploads/2023/08/Iva-Zur-Diana-Vera-a-Very-Fluffy_CB_-1-scaled.jpg
END:VEVENT
BEGIN:VEVENT
DTSTART;TZID=Europe/Prague:20260315T110000
DTEND;TZID=Europe/Prague:20260315T190000
DTSTAMP:20260422T150311
CREATED:20260217T140327Z
LAST-MODIFIED:20260220T142702Z
UID:3458-1773572400-1773601200@dianavera.com
SUMMARY:Částečné závěsy aneb Kam po základech
DESCRIPTION:Jednoduše a bezpečně si protějšek přivěsit.\nVztáhnout se s vaším vázáním do třetí dimenze\, modelovat tělo vázaného v prostoru\, ale nehnat se do náročných plných závěsů.\nČástečné závěsy nabízí nepřeberné množství variant\, naučíme se tři pozice.\nMám je ráda\, protože umožňují „zůstat v závěsu déle“ a jsou pro „běžnou populaci snesitelnější“.\n\n\nRezervovat\n  \n  \n \n\nTermín\n15. 3. 2026 11:00 – 19:00 \n  \nMísto konání\nAlive Kinbaku Dojo\, Praha – Letná\, přesná adresa vám dorazí v emailu\, který vám potvrdí\, že vaše registrace byla zaplacena. V den konání kurzu prosím o vaši DOCHVILNOST\, prostor je otevřený 30min před začátkem kurzu. Po začátku už nebudete vpuštěni dovnitř. V této lokalitě je doporučeno podívat se na parkovací zóny předem a nechat si na pohodové nalezení parkovacího místa dostatek časové rezervy. \n\nPokročilost\nUmíte základní úvaz single column tie\, svázat ruce k sobě\, omotávat trup\, manipulovat s provazem a udržet v něm napětí.\nTento workshop navazuje na můj kurz Pevné základy shibari\, nebo na jakékoliv začátečnické/mírně pokročilé kurzy shibari absolvované jinde či na soukromé lekce.\n\n\nRezervovat\n\nObsah\n\nOpět půjdeme nejen po technice\, ale i po emocích\, jak je zvykem na mých kurzech.\nNabídnu vám své oblíbené\, na vytvoření jednoduché\, i na „vydržet v tom“ příjemné pozice.\nKaždá z pozic s sebou přináší specifické emoce\, ne/možnost pohybu a interakce v ní nabízí určitou hru\, ať už jde o péči\, stud a odhalování nebo odevzdání a smyslovou deprivaci.\n\n\nNaučíme se především bezpečný závěsný provaz\, vysvětlíme si zákonitosti tření\, jak s nimi nebojovat a naopak je využít ve svůj prospěch. Podíváme se na závěsný bod\, na jeho výšku a jak si ho vytvořit. A pověnujeme se manipulaci s tělem\, když ho vedeme do závěsu a opět na zem\, tak aby to bylo organické\, dosti plynulé a bohaté na prožitek.\n\n\n\n\n\nRezervovat\n\n\nForma\nUkázky bude střídat výklad\, řízené sdílení a hlavně vaše praxe ve dvojicích.\n\nRegistrace\nNa dianavera.com přes rezervační systém. Páry si kupují 2 vstupy. Pokud se neznáme osobně\, připojte prosím informaci o svých zkušenostech a motivaci k vázání. \nPokud o workshop máte zájem\, ale jste single\, napište mi email na diana@dianavera.com\, kdo jste a s kým byste rádi vázali. Připojte informaci\, zda už máte nějaké praktické zkušenosti\, s bondage\, masážemi\, pohybem\, seberozvojovými kurzy. Uveďte\, odkud přibližně jste\, jak jste staří\, zda jste otevření střídání rolí nebo vázání se stejným pohlavím a jaký kontakt na vás mohu dávat případným protějškům. Propojím vás s někým\, kdo mi taky napíše email\, že by rád šel\, ale nemá dvojici. Můžete se seznámit a přihlásit jako dvojice. \nSvoji účast můžete zrušit nejpozději 7 dní předem. Později kurzovné propadá nebo za sebe můžete najít náhradníky. \n\n\nRezervovat\n\nKurzovné\n\n1800 Kč / osobu \n\n\nČas\n11:00 – 19:00\,  včetně 1 hod na oběd\, ca 14:00 – 15:00 \n\nS sebou\nŠátek na oči\, provazy\, co máte. Na místě budou po předchozí domluvě jutové\nprovazy ke koupi i k zapůjčení. Deku. Pohodlné oblečení pro volný pohyb na zemi.\nPodložky jsou na místě. Vážeme bosí. \nVybavení pro závěsy: bambus\, kruh\, karabiny nebo smyce. Pokud nemáte\, nic nekupujte předem\, vše si půjčíte na místě\, osaháte\, pochopíte a pak se rozhodnete\, zda a jak se dovybavíte. \n\nStravování\nNa oběd můžeme vyrazit společně\, v těsné blízkosti Alive Kinbaku Dojo se nachází větší množství restaurací a kaváren. \nVe studiu je kuchyňka\, takže si lze ohřát vlastní krabičku\, koupit si kávu\, čaj\, nealko nebo drobné občerstvení. \n\n\n\nRezervovat\n\n\n 
URL:https://dianavera.com/event/castecne-zavesy-aneb-kam-po-zakladech/
ATTACH;FMTTYPE=image/jpeg:https://dianavera.com/wp-content/uploads/2026/02/castecne_klic_ig.jpeg
END:VEVENT
END:VCALENDAR