BEGIN:VCALENDAR
VERSION:2.0
PRODID:-//Diana Vera - ECPv6.14.2//NONSGML v1.0//EN
CALSCALE:GREGORIAN
METHOD:PUBLISH
X-WR-CALNAME:Diana Vera
X-ORIGINAL-URL:https://dianavera.com
X-WR-CALDESC:Akce na Diana Vera
REFRESH-INTERVAL;VALUE=DURATION:PT1H
X-Robots-Tag:noindex
X-PUBLISHED-TTL:PT1H
BEGIN:VTIMEZONE
TZID:Europe/Prague
BEGIN:DAYLIGHT
TZOFFSETFROM:+0100
TZOFFSETTO:+0200
TZNAME:CEST
DTSTART:20260329T010000
END:DAYLIGHT
BEGIN:STANDARD
TZOFFSETFROM:+0200
TZOFFSETTO:+0100
TZNAME:CET
DTSTART:20261025T010000
END:STANDARD
END:VTIMEZONE
BEGIN:VEVENT
DTSTART;TZID=Europe/Prague:20260124T110000
DTEND;TZID=Europe/Prague:20260124T190000
DTSTAMP:20260421T174308
CREATED:20251214T084058Z
LAST-MODIFIED:20251221T125759Z
UID:3411-1769252400-1769281200@dianavera.com
SUMMARY:Pevné základy shibari - kurz pro začínající
DESCRIPTION:aneb balíček dovedností\, které chcete mít\, když začínáte s vázáním shibari. Tento workshop je branou k mým ostatním workshopům.\n\n\n  \nRezervovat\n\n\n\n\n\n\nTermín\n\n24. 1. 2026\, 11:00 – 19:00 \nMísto konání\nAlive Kinbaku Dojo\, Praha – Letná\, přesná adresa vám dorazí v emailu\, který vám potvrdí\, že vaše registrace byla zaplacena. V den konání kurzu prosím o vaši DOCHVILNOST\, prostor je otevřený 30min před začátkem kurzu. Po začátku už nebudete vpuštěni dovnitř. V této lokalitě je doporučeno podívat se na parkovací zóny předem a nechat si na pohodové nalezení parkovacího místa dostatek časové rezervy. \nPokročilost\nVhodné pro naprosté začátečníky. Nicméně tento kurz si rádi opakují i mírně pokročilí\, například když si chtějí oživit techniku po té\, co delší dobu nevázali\, mají dojem\, že jim po prvním absolvování uvízlo málo nebo mají v úmyslu přijít s jiným partnerem nebo v jiné roli. \n  \nObsah\nDen ve znamení odevzdání se a ovládnutí provazu jako nástroje. \nZe začátku vás zajímá nebo by určitě měla bezpečnost. Ke každému jednomu\núvazu si budeme říkat\, kde má rizikové faktory. Workshop by pro vás měl být rovněž\nbezpečným místem\, kde se můžete otevřít a jít naproti své orientaci a vyzkoušet si\nvěci\, které vás přitahují\, „pod odborným dohledem“. Mnoho z vás je po emoční\nstránce skvěle intuitivních\, jen potřebujete trochu technického know-how. \nNaučíme se proto funkční úvazy pro ruce\, nohy i pro celé tělo. Budeme se věnovat\nzpůsobům\, jak udržet v provazu napětí a tím ovládat\, co se děje ve vašem kontaktu s protějškem v daný okamžik. \nDalším pilířem\, o který se každé vázání opírá je ne/pohyb\, tzn. manipulace s tělem. Prakticky si ukážeme\, jak se do úvazu pohodlně\, bezpečně a smyslně dostat a co se s ním dá dělat dál. \nPoslední a nejdůležitější téma\, kterého se budeme průběžně dotýkat jsou hranice.\nVěnujeme pozornost tomu\, jak stanovovat\, komunikovat\, respektovat a vnímat hranice našich těl i našich duší. Budete zjišťovat\, co tvoří rámec vašeho vztahu\, jak se v něm pohybovat\, aby to bylo skutečně se souhlasem a pro potěšení obou. \n\n\n\n\n\n\n\n  \nRezervovat\n\n\nForma\n\n\n\n\n\n\nUkázky bude střídat výklad\, řízené sdílení a hlavně vaše praxe ve dvojicích. \nKurz je vhodný pro naprosté začátečníky i pro lidi\, kteří mají už několik kurzů\nza sebou. Jestli váháte\, zda už neumíte příliš mnoho\, pak vězte\, že každý z nás se\nučí specifickým způsobem a rychlostí. Někomu jde vše technické napoprvé hned\nzkraje\, jiný potřebuje několikeré opakování\, než pochopení z hlavy doteče až do těla. Někdo od prvního doteku vypíná logiku\, krásně si užívá společné flow\, ale co se probíralo si druhý den nepamatuje.\nMůže trvat\, než zjistíme\, který lektor nám sedí a jaký jsme typ studenta. Je skvělé si\nobčas věci zopakovat\, oprášit nebo si potvrdit\, co všechno už děláte dobře. Když se\nuž nemusíte pídit po samotném základu\, kudy vede provaz\, můžete si všímat detailů\na vychytávek\, které pro vás před tím byly neviditelné. \n  \nRegistrace\nNa dianavera.com přes rezervační systém. Páry si kupují 2 vstupy. Pokud se neznáme osobně\, připojte prosím informaci o svých zkušenostech a motivaci k vázání. \nSpeciálně na začátku jsou lidi nejčastěji bez vhodného protějšku. Pokud o workshop máte zájem\, ale jste single\, napište mi email na diana@dianavera.com\, kdo jste a s kým byste rádi vázali. Připojte informaci\, zda už máte nějaké praktické zkušenosti\, s bondage\, masážemi\, pohybem\, seberozvojovými kurzy. Uveďte\, odkud přibližně jste\, jak jste staří\, zda jste otevření střídání rolí nebo vázání se stejným pohlavím. Propojím vás s někým\, kdo mi taky napíše email\, že by rád šel\, ale nemá dvojici. Můžete se seznámit a přihlásit jako dvojice. \n\n\n\n\n\n\n  \nRezervovat\n\n\n\n\n\n\n\nS sebou\nŠátek na oči\, provazy\, co máte. Na místě budou po předchozí domluvě jutové\nprovazy ke koupi i k zapůjčení. Deku. Pohodlné oblečení pro volný pohyb na zemi.\nPodložky jsou na místě. Vážeme bosí. \nKurzovné\n\n1800 Kč / 1 osoba \nČas\n11:00 – 19:00\, včetně 1 hod na oběd\, cca 14:00 – 15:00 \nStravování\nNa oběd můžeme vyrazit společně\, v těsné blízkosti Alive Kinbaku Dojo se nachází větší množství restaurací a kaváren. \n\n\n\n\n\n\n  \nRezervovat\n\n\n\n\n\n\n\n\n\n\n 
URL:https://dianavera.com/event/pevne-zaklady/
ATTACH;FMTTYPE=image/jpeg:https://dianavera.com/wp-content/uploads/2023/08/Iva-Zur-Diana-Vera-a-Very-Fluffy_CB_-1-scaled.jpg
END:VEVENT
BEGIN:VEVENT
DTSTART;TZID=Europe/Prague:20260125T110000
DTEND;TZID=Europe/Prague:20260125T190000
DTSTAMP:20260421T174308
CREATED:20251217T103255Z
LAST-MODIFIED:20251217T103603Z
UID:3414-1769338800-1769367600@dianavera.com
SUMMARY:Dominance provazem a vlastním tělem
DESCRIPTION:Workshop pro ty\, které baví ovládat a být ovládáni skrze vědomý dotek\, ať už tělem nebo provazem. Budeme se pohybovat na hranici masáže\, bodymechaniky a drsnějšího zacházení s tělem za využití jedno-provazových úvazů.\n  \nRezervovat\n  \n \nTermín\n25. 1. 2026\, 11-19:00 \nMísto konání\nAlive Kinbaku Dojo\, Praha – Letná\, přesná adresa vám dorazí v emailu\, který vám potvrdí\, že vaše registrace byla zaplacena. V den konání kurzu prosím o vaši DOCHVILNOST\, prostor je otevřený 30min před začátkem kurzu. Po začátku už nebudete vpuštěni dovnitř. V této lokalitě je doporučeno podívat se na parkovací zóny předem a nechat si na pohodové nalezení parkovacího místa dostatek časové rezervy. \nPokročilost\nBude se vám hodit umět svázat ruce k sobě\, ovládat provaz a omotávat trup. Doporučený začátečnický kurz jsou ode mě Pevné základy shibari\, např. 24. 1. 2026\, ale můžete mít základy od kohokoliv jiného. \nObsah\nMnoho z nás vstupuje do vázání\, abychom vtělili svoje dominantně – submisivní představy. Tento workshop vám nabídne k vyzkoušení\, k naučení a hlavně k prožití mnoho způsobů\, JAK se dotknout tak\, aby náš protějšek zvědavě následoval\, toužil poslechnout a s rozkoší se nechal se vést. \nVysvětlíme si zákonitosti těla\, pohybu\, směru\, intenzity doteku\, který nemusí být vždy jen skrze provaz\, můžeme se dotýkat nejrůznějšími částmi těla na nejrůznějších částech těla. Nepůjde o erotickou stimulaci\, ale spíše o spolupráci kostí\, svalů\, kloubů a fascií tak\, abychom se dostali do kontaktu oba partneři. Jednoduše dříve než přitlačíme na pilu\, je třeba umět daný prvek vykonat účinně a bez bolesti. \nNaučím vás svá oblíbená gesta\, ukážu „zaručená“ místa na těle\, postupy\, které mi fungují. Především vás ale podnítím\, abyste hledali vlastní způsoby a rozšířili tak škálu nástrojů\, které používáte. Kromě doteku se podíváme i na neverbální komunikaci\, hlas\, dech a ZÁMĚR. \nSamozřejmostí bude sledování bezpečnosti jak pro vaše těla tak psychiku. U každé z nabízených technik budete upozorněni na možná rizika\, povedu vás k tomu\, abyste spolu komunikovali své hranice a intenzitu. Neočekávejte žádné drsné take-downy ani hru s dechem\, jako spíše zalehávání\, zašlapávání\, hru se vzdáleností\, apod. a hlavně otevírání se potenciálu vlastního těla a nacházení příjemných cest k uspokojivé dominantně-submisivní fyzické interakci. \n  \nRezervovat\n  \nForma\nUkázky bude střídat výklad\, řízené sdílení a hlavně vaše praxe ve dvojicích. \nRegistrace\nZde přes rezervační systém. Páry si kupují 2 lístky. Jednotlivci se ozvou na email diana@dianavera.com předem a lístky si kupují až po té\, když mají jasné\, s kým jdou. Propojím vás s někým\, kdo mi taky napíše email\, že by rád šel\, ale nemá dvojici. \nPokud se neznáme osobně\, připojte prosím informaci o svých zkušenostech a\nmotivaci k vázání. \nS sebou\nŠátek na oči\, provazy\, co máte. Na místě budou po předchozí domluvě jutové\nprovazy ke koupi i k zapůjčení. Psací potřeby. Deku. Uzavíratelnou láhev na vodu do sálu. Pohodlné oblečení pro volný pohyb na zemi.\nPodložky jsou na místě. Vážeme bosí. \nKurzovné\n\n1800 Kč / osoba \n\n\nČas\n11:00 – 19:00\, včetně 1 hod na oběd\, cca 14:00 – 15:00 \nStravování\nNa oběd můžeme vyrazit společně\, v těsné blízkosti Alive Kinbaku Dojo se nachází větší množství restaurací a kaváren. \n\n\n\n\n\n\n  \n\n\n\n\n\n\n\nRezervovat\n  \n  \n\n  \n  \n\n\n 
URL:https://dianavera.com/event/dominance-provazem-a-vlastnim-telem-2/
ATTACH;FMTTYPE=image/jpeg:https://dianavera.com/wp-content/uploads/2024/10/bit-ci-nebyt-ja-scaled.jpeg
END:VEVENT
BEGIN:VEVENT
DTSTART;TZID=Europe/Prague:20260126T200000
DTEND;TZID=Europe/Prague:20260126T223000
DTSTAMP:20260421T174308
CREATED:20251219T095935Z
LAST-MODIFIED:20260108T085710Z
UID:3425-1769457600-1769466600@dianavera.com
SUMMARY:Consent for riggers - večerní
DESCRIPTION:Dianin malý příspěvek k velkému tématu\nPraktický workshop\, nikoliv přednáška a beseda\nJak má rigger vést session\, aby nepřekročil hranice?\nVhodné pro jednotlivce.\n\n  \nRezervovat\n  \n\n \nTermín\n26. 1. 2026\, 20 – 22:30 \nMísto konání\nAlive Kinbaku Dojo\, Praha – Letná\, přesná adresa vám dorazí v emailu\, který vám potvrdí\, že vaše registrace byla zaplacena. V den konání kurzu prosím o vaši DOCHVILNOST\, prostor je otevřený 30min před začátkem kurzu. Po začátku už nebudete vpuštěni dovnitř. V této lokalitě je doporučeno podívat se na parkovací zóny předem a nechat si na pohodové nalezení parkovacího místa dostatek časové rezervy. \nPokročilost\nBude se vám hodit umět svázat alespoň ruce k sobě\, ovládat provaz a manipulaci s tělem. Základy můžete mít odkudkoliv\, u mě je můžete absolvovat např. 24. 1. nebo se den předem 25. 1. můžete vyladit na Ds vlnu na Dominance provazem a vlastním tělem \n  \nObsah\nPsali jste mi\, že vám v ČR schází vzdělávání riggerů\, jak vést session tak\, abychom se vyvarovali rizika překročení hranic protějšku. Samozřejmě že neexistuje jediná správná odpověď ani jistota. Ale můžeme neúnavně brousit svou schopnost intuice\, učit se skrze vlastní prožitek a přijímání\, sdílet a učit se ze zkušenosti druhých. \nNejde jen o učení modelů dávat najevo nesouhlas\, jde i o psychický stav riggera\, když nechtěně ublíží. \nTento můj večerní příspěvek k tématu KONSENTu bude praktický\, prožitkový. Delší „všeobsažná“ přednáška\, jak vést vstupní rozhovor před session je zahrnuta v mém 8 denním výcviku. \nZvu páry i jednotlivce všech pokročilostí. Zahrajeme si dvě dotekové hry. \n\n\n  \nRezervovat\n  \n\n\nRegistrace\nZde přes rezervační systém. Páry si kupují 2 lístky. \nPokud se neznáme osobně\, připojte prosím v registračním formuláři informaci o svých dosavadních zkušenostech a motivaci k vázání. \nS sebou\nŠátek na oči\, provazy\, co máte. Na místě budou po předchozí domluvě jutové\nprovazy ke koupi i k zapůjčení. Psací potřeby. Deku. Uzavíratelnou láhev na vodu do sálu. Pohodlné oblečení pro volný pohyb na zemi.\nPodložky jsou na místě. Vážeme bosí. \nKurzovné\n\n300 Kč / osoba \n\n\nČas\n20:00 – 22:30 \n\n\n\n\n\n\n\n\n\nRezervovat\n  \n\n  \n\n  \n  \n\n\n 
URL:https://dianavera.com/event/consent-for-riggers-vecerni/
ATTACH;FMTTYPE=image/jpeg:https://dianavera.com/wp-content/uploads/2023/08/IMGL8190.jpg
END:VEVENT
BEGIN:VEVENT
DTSTART;TZID=Europe/Prague:20260130T190000
DTEND;TZID=Europe/Prague:20260130T220000
DTSTAMP:20260421T174308
CREATED:20251210T124934Z
LAST-MODIFIED:20251210T124934Z
UID:3409-1769799600-1769810400@dianavera.com
SUMMARY:BRNOtour: Večerní workshop FemdomShibari
DESCRIPTION:Tam\, kde ona váže jeho\, a ne jinak! Ukázka pro navození atmosféry\, cvičení s provazy pro dvojice\, sdílení v podobně orientované skupině.\n  \nRezervovat\n  \n \nTermín\n30. 1. 2026 19 – 22:00\, volně navazuje sobota a neděle s workshopy pro páry už všech orientací a preferencí role Dominance provazem a vlastním tělem a Souhlas a hranice v shibari praxi \nMísto konání\nStudio Bad Reputation v Brně\, přesná adresa pro přihlášené. \nV den konání kurzu prosím o vaši dochvilnost\, prostor je otevřený 30min před začátkem kurzu. Po začátku už nebudete vpuštěni dovnitř. \nPokročilost\nNemusíte mít zkušenosti s vázáním\, ale můžete být už v shibari i pokročilejší pár. Jde především o vaši chuť objevovat\, jaké to je\, když provazy drží ona. \nObsah\nBudeme sdílet a diskutovat specifika vázání mužského těla oproti úvazům designovaným převážně na ženské tělo. Probereme emoční aspekty\, co je shodné a co naopak odlišné od session\, kde muž svazuje ženu. Ukázkou podpořím atmosféru a inspiruji vás k následné praxi. Zařadím cvičení s provazy pro obrácení polarity v páru\, která vám organicky pomohou vstoupit do příslušné role. Nemusíte být dvojička\, kde ona je domina a on subík\, můžete být dokonce pár\, kde většinou on váže ji\, bohatě stačí zvědavost a motivace si to pro tento večer otočit. \n  \nRezervovat\n  \nRegistrace\nZde přes rezervační systém. Páry si kupují 2 lístky. Jednotlivci se ozvou na email diana@dianavera.com předem a lístky si kupují až po té\, když mají jasné\, s kým jdou. Propojím vás s někým\, kdo mi taky napíše email\, že by rád šel\, ale nemá dvojici. \nPokud se neznáme osobně\, připojte prosím informaci o svých zkušenostech a\nmotivaci k vázání. \nS sebou\nŠátek na oči\, provazy\, co máte. Na místě budou po předchozí domluvě jutové\nprovazy ke koupi i k zapůjčení. Psací potřeby. Deku. Pohodlné oblečení pro volný pohyb na zemi.\nPodložky jsou na místě. Vážeme bosí. \nKurzovné\n\n300 Kč / osobu \n\nStravování\nNa místě je možnost uvařit si čaj\, kávu koupit nealko či drobné občerstvení. \n\n  \nRezervovat\n  \n\n  \n  \n\n  \n  \n\n\n 
URL:https://dianavera.com/event/brnotour_vecerni_workshop_femdomshibari/
ATTACH;FMTTYPE=image/jpeg:https://dianavera.com/wp-content/uploads/2023/08/IMG_8228-scaled.jpg
END:VEVENT
BEGIN:VEVENT
DTSTART;TZID=Europe/Prague:20260131T110000
DTEND;TZID=Europe/Prague:20260131T190000
DTSTAMP:20260421T174308
CREATED:20251204T165558Z
LAST-MODIFIED:20251204T165558Z
UID:3399-1769857200-1769886000@dianavera.com
SUMMARY:BRNOtour: Dominance provazem a vlastním tělem
DESCRIPTION:Workshop pro ty\, které baví ovládat a být ovládáni skrze vědomý dotek\, ať už tělem nebo provazem. Budeme se pohybovat na hranici masáže\, bodymechaniky a drsnějšího zacházení s tělem za využití jedno-provazových úvazů.\n  \nRezervovat\n  \n \nTermín\n31. 1. 2026 11-19:00\, volně navazuje neděle s workshopem Souhlas a hranice v shibari praxi \nMísto konání\nStudio Bad Reputation v Brně\, přesná adresa pro přihlášené. \nV den konání kurzu prosím o vaši dochvilnost\, prostor je otevřený 30min před začátkem kurzu. Po začátku už nebudete vpuštěni dovnitř. \nPokročilost\nBude se vám hodit umět svázat ruce k sobě\, ovládat provaz a omotávat trup. Doporučený začátečnický kurz jsou Pevné základy shibari\, např. 24. 1. 2026 \nObsah\nMnoho z nás vstupuje do vázání\, abychom vtělili svoje dominantně – submisivní představy. Tento workshop vám nabídne k vyzkoušení\, k naučení a hlavně k prožití mnoho způsobů\, JAK se dotknout tak\, aby náš protějšek zvědavě následoval\, toužil poslechnout a s rozkoší se nechal se vést. \nVysvětlíme si zákonitosti těla\, pohybu\, směru\, intenzity doteku\, který nemusí být vždy jen skrze provaz\, můžeme se dotýkat nejrůznějšími částmi těla na nejrůznějších částech těla. Nepůjde o erotickou stimulaci\, ale spíše o spolupráci kostí\, svalů\, kloubů a fascií tak\, abychom se dostali do kontaktu oba partneři. Jednoduše dříve než přitlačíme na pilu\, je třeba umět daný prvek vykonat účinně a bez bolesti. \nNaučím vás svá oblíbená gesta\, ukážu „zaručená“ místa na těle\, postupy\, které mi fungují. Především vás ale podnítím\, abyste hledali vlastní způsoby a rozšířili tak škálu nástrojů\, které používáte. Kromě doteku se podíváme i na neverbální komunikaci\, hlas\, dech a ZÁMĚR. \nSamozřejmostí bude sledování bezpečnosti jak pro vaše těla tak psychiku. U každé z nabízených technik budete upozorněni na možná rizika\, povedu vás k tomu\, abyste spolu komunikovali své hranice a intenzitu. Neočekávejte žádné drsné take-downy ani hru s dechem\, jako spíše zalehávání\, zašlapávání\, hru se vzdáleností\, apod. a hlavně otevírání se potenciálu vlastního těla a nacházení příjemných cest k uspokojivé dominantně-submisivní fyzické interakci. \n\n  \nRezervovat\n  \nForma\nUkázky bude střídat výklad\, řízené sdílení a hlavně vaše praxe ve dvojicích. \nRegistrace\nZde přes rezervační systém. Páry si kupují 2 lístky. Jednotlivci se ozvou na email diana@dianavera.com předem a lístky si kupují až po té\, když mají jasné\, s kým jdou. Propojím vás s někým\, kdo mi taky napíše email\, že by rád šel\, ale nemá dvojici. \nPokud se neznáme osobně\, připojte prosím informaci o svých zkušenostech a\nmotivaci k vázání. \nS sebou\nŠátek na oči\, provazy\, co máte. Na místě budou po předchozí domluvě jutové\nprovazy ke koupi i k zapůjčení. Psací potřeby. Deku. Pohodlné oblečení pro volný pohyb na zemi.\nPodložky jsou na místě. Vážeme bosí. \nKurzovné\n\n1200 Kč / osobu \n\nStravování\nNa místě je možnost uvařit si čaj\, kávu koupit nealko či drobné občerstvení. Na oběd můžete zůstat se svou krabičkou nebo si vybrat y mnoha přilehlých restaurací. \n  \nRezervovat\n  \n  \n\n  \n  \n\n\n 
URL:https://dianavera.com/event/brnotour-dominance-provazem-a-vlastnim-telem/
ATTACH;FMTTYPE=image/jpeg:https://dianavera.com/wp-content/uploads/2024/10/bit-ci-nebyt-ja-scaled.jpeg
END:VEVENT
END:VCALENDAR