BEGIN:VCALENDAR
VERSION:2.0
PRODID:-//Diana Vera - ECPv6.14.2//NONSGML v1.0//EN
CALSCALE:GREGORIAN
METHOD:PUBLISH
X-WR-CALNAME:Diana Vera
X-ORIGINAL-URL:https://dianavera.com
X-WR-CALDESC:Akce na Diana Vera
REFRESH-INTERVAL;VALUE=DURATION:PT1H
X-Robots-Tag:noindex
X-PUBLISHED-TTL:PT1H
BEGIN:VTIMEZONE
TZID:Europe/Prague
BEGIN:DAYLIGHT
TZOFFSETFROM:+0100
TZOFFSETTO:+0200
TZNAME:CEST
DTSTART:20250330T010000
END:DAYLIGHT
BEGIN:STANDARD
TZOFFSETFROM:+0200
TZOFFSETTO:+0100
TZNAME:CET
DTSTART:20251026T010000
END:STANDARD
END:VTIMEZONE
BEGIN:VEVENT
DTSTART;TZID=Europe/Prague:20250831T110000
DTEND;TZID=Europe/Prague:20250831T190000
DTSTAMP:20260422T041850
CREATED:20250808T095846Z
LAST-MODIFIED:20251026T164534Z
UID:3199-1756638000-1756666800@dianavera.com
SUMMARY:Shibari jako terapie?
DESCRIPTION:Jak se tvoří léčivá session\, nastavuje záměr vás obou\, domlouvá rámec a hranice nebo drží prostor?  Pro mírně pokročilé přátele bondage a/nebo vědomého doteku\, otevírám výjimečně možnost připojit se k závěrečnému dni 2. běhu svého výcviku „Shibari session“. Zvlášť pro ty\, kteří zvažují účast na 3. běhu na jaře 2026. Více čti v obsahu.\n\n  \nRezervovat\n\n\n\nTermín\n31. 8. 2025\, 11-19:00 \nMísto konání\nKlub Kotelna\, Služeb 3a\, Praha 10 – Hostivař\nV den konání kurzu prosím o vaši dochvilnost\, prostor je otevřený už 30min před začátkem kurzu. Po začátku už nebudete vpuštěni dovnitř. \n  \nPokročilost\nJe třeba\, abyste za sebou měli minimálně Základy vázání shibari\, ať už u mě nebo u jiných lektorů. Měli byste umět svázat ruce k sobě\, ovládat provaz a mít za sebou praktické pokusy o shibari session ze soukromí. Pokud vás akce volá\, ale provazy vám byly dosud cizí doporučuji kurz o týden dříve 23. 8. 2025 Pevné základy shibari – rezervace zde na webu. \n\n\nRezervovat\n\n\nObsah\nAť už jste na začátku své cesty s provazy\, ohromeni účinností tohoto nástroje a zodpovědností\, která na vás při jeho použití doléhá\, nebo kdekoliv dále ve svém provazovém osudu\, nikdy není špatně zopakovat si: \nVázání samotné není terapií. Pokud trpíte psychickými problémy\, obraťte se na svého lékaře nebo psychologa. \nNicméně jde o mezilidskou aktivitu\, při níž jsme si intuitivními terapeuty navzájem. Mnoho praktikujících popisuje benefity jako: absolutní zpřítomnění – tam\, kde měkčí techniky jako meditace či masáž „nefungovaly“\, uvolnění napětí emočního i fyzického\, střednědobá úleva od úzkosti a deprese\, transformační zážitky s odevzdáním kontroly\, vyšší míra sebepřijetí\, zlepšení schopnosti mít a komunikovat své hranice\, apod. \nPokud už nějakou dobu vážete\, máte jistě zkušenost s tím\, že někdy „se zázrak stane“ a jindy nepřijde. Tento workshop si klade za cíl pozvat vás blíž k rozboru toho\, jak se k „zázraku léčení skrz provazy“ dostat vědomě a koordinovaně. Půjdeme cestou zakoušení\, jednu session dostanete a druhou budete dávat. Rozvažujte už nyní\, které téma se vám v jaké roli zjevuje\, že byste si ho chtěli zpracovat\, odžít nebo se s ním alespoń potkat. Před sessions a po nich budeme sdílet v kruhu. \nBudeme skloňovat záměr\, přítomný okamžik\, plnou pozornost\, temporytmus\, dialog\, příběh\, vědomý dotek\, konstelaci\, zrcadlení. V hloubi svého srdce vnímat\, kdy se jen vezeme na starých vzorcích a užíváme si svůj kink\, tak jak to máme rádi\, a kdy naopak vcházíme na hranu komfortní zóny a přepisujeme svá přesvědčení. Budeme se učit držet prostor a dávat kompetenci přijímajícímu\, který si sám řídí svůj léčebný proces\, zůstávat v roli průvodce a svědka nikoliv kouzelníka a všemocného dominantního riggera. \nTento kurz je zároveň pro několik lidí závěrečným dnem mého výcviku „Shibari session“\, který jsem v zimě pozastavila kvůli svému úrazu. Skupina dlouho nenacházela shodu na náhradním termínu. Teď jsme shodu našli\, ale klesl náš počet. Chceme se proto doplnit o pár vědomých lidí zvenku\, kteří hledají možnost si s provazy sáhnout do hloubky. Máte tedy zcela ojedinělou možnost připojit se k něčemu\, co jinak sdílím pouze se studenty\, se kterými jsem před tím sdílela jádro svého know how v průběhu celého výcviku. Jsem praktik\, mýma rukama prošlo a v mých provazech dlelo s jistotou víc jak 1000 lidí\, a na tomto kurzu vám chci předat svou esenci. Když vás to chytí\, o čemž nepochybuji\, ráda vás uvítám ve výcviku na jaře 2026. \n\n\n\nRezervovat\n\n\n  \nRegistrace\nTento kurz je určen pro jednotlivce\, kteří jsou připraveni se párovat na místě losem\, a cítí se na obě role. Nemusíte umět extra vázat\, je možné přijímat vázání a dávat spíše dotek. Páry jsou vítané\, ať už se budou chtít rozdělit nebo zůstat spolu. Pokud na tenhle kurz vyloženě chcete a přitom lpíte na pouze jedné roli\, dejte mi o tom vědět na diana@dianavera.com\, je možné\, že se u mě sejde více takových emailů a spáruji vás spolu tak\, aby vše vycházelo příjemně pro všechny. \nVstupné si kupujete zde na www.dianavera.com přes rezervační systém. Pokud se neznáme osobně\, připojte prosím informaci o svých zkušenostech a motivaci k vázání. \n\n\n\nRezervovat\n\n\n\nS sebou\nŠátek na oči\, provazy\, co máte. Na místě budou po předchozí domluvě jutové\nprovazy ke koupi i k zapůjčení. Deku. Pohodlné oblečení pro volný pohyb na zemi.\nPodložky jsou na místě. Vážeme bosí. \nKurzovné\n\n1800 Kč / osoba \nČas\n11:00 – 19:00\, včetně 1 hod na oběd\, ca 14:00-15:00 \nStravování\nJediná restaurace v okolí je přímo na místě\, můžete se proto těšit na společný oběd\, který není v ceně workshopu. Pokud máte stravovací omezení\, dejte mi prosím vědět předem emailem\, ať má ten den restaurace na menu něco\, co si budete moci dát. \n\n\n\nRezervovat
URL:https://dianavera.com/event/shibari-jako-terapie/
ATTACH;FMTTYPE=image/jpeg:https://dianavera.com/wp-content/uploads/2024/03/IMGL8815.jpg
END:VEVENT
END:VCALENDAR