BEGIN:VCALENDAR
VERSION:2.0
PRODID:-//Diana Vera - ECPv6.14.2//NONSGML v1.0//EN
CALSCALE:GREGORIAN
METHOD:PUBLISH
X-WR-CALNAME:Diana Vera
X-ORIGINAL-URL:https://dianavera.com
X-WR-CALDESC:Akce na Diana Vera
REFRESH-INTERVAL;VALUE=DURATION:PT1H
X-Robots-Tag:noindex
X-PUBLISHED-TTL:PT1H
BEGIN:VTIMEZONE
TZID:Europe/Prague
BEGIN:DAYLIGHT
TZOFFSETFROM:+0100
TZOFFSETTO:+0200
TZNAME:CEST
DTSTART:20260329T010000
END:DAYLIGHT
BEGIN:STANDARD
TZOFFSETFROM:+0200
TZOFFSETTO:+0100
TZNAME:CET
DTSTART:20261025T010000
END:STANDARD
END:VTIMEZONE
BEGIN:VEVENT
DTSTART;TZID=Europe/Prague:20260125T110000
DTEND;TZID=Europe/Prague:20260125T190000
DTSTAMP:20260421T185600
CREATED:20251217T103255Z
LAST-MODIFIED:20251217T103603Z
UID:3414-1769338800-1769367600@dianavera.com
SUMMARY:Dominance provazem a vlastním tělem
DESCRIPTION:Workshop pro ty\, které baví ovládat a být ovládáni skrze vědomý dotek\, ať už tělem nebo provazem. Budeme se pohybovat na hranici masáže\, bodymechaniky a drsnějšího zacházení s tělem za využití jedno-provazových úvazů.\n  \nRezervovat\n  \n \nTermín\n25. 1. 2026\, 11-19:00 \nMísto konání\nAlive Kinbaku Dojo\, Praha – Letná\, přesná adresa vám dorazí v emailu\, který vám potvrdí\, že vaše registrace byla zaplacena. V den konání kurzu prosím o vaši DOCHVILNOST\, prostor je otevřený 30min před začátkem kurzu. Po začátku už nebudete vpuštěni dovnitř. V této lokalitě je doporučeno podívat se na parkovací zóny předem a nechat si na pohodové nalezení parkovacího místa dostatek časové rezervy. \nPokročilost\nBude se vám hodit umět svázat ruce k sobě\, ovládat provaz a omotávat trup. Doporučený začátečnický kurz jsou ode mě Pevné základy shibari\, např. 24. 1. 2026\, ale můžete mít základy od kohokoliv jiného. \nObsah\nMnoho z nás vstupuje do vázání\, abychom vtělili svoje dominantně – submisivní představy. Tento workshop vám nabídne k vyzkoušení\, k naučení a hlavně k prožití mnoho způsobů\, JAK se dotknout tak\, aby náš protějšek zvědavě následoval\, toužil poslechnout a s rozkoší se nechal se vést. \nVysvětlíme si zákonitosti těla\, pohybu\, směru\, intenzity doteku\, který nemusí být vždy jen skrze provaz\, můžeme se dotýkat nejrůznějšími částmi těla na nejrůznějších částech těla. Nepůjde o erotickou stimulaci\, ale spíše o spolupráci kostí\, svalů\, kloubů a fascií tak\, abychom se dostali do kontaktu oba partneři. Jednoduše dříve než přitlačíme na pilu\, je třeba umět daný prvek vykonat účinně a bez bolesti. \nNaučím vás svá oblíbená gesta\, ukážu „zaručená“ místa na těle\, postupy\, které mi fungují. Především vás ale podnítím\, abyste hledali vlastní způsoby a rozšířili tak škálu nástrojů\, které používáte. Kromě doteku se podíváme i na neverbální komunikaci\, hlas\, dech a ZÁMĚR. \nSamozřejmostí bude sledování bezpečnosti jak pro vaše těla tak psychiku. U každé z nabízených technik budete upozorněni na možná rizika\, povedu vás k tomu\, abyste spolu komunikovali své hranice a intenzitu. Neočekávejte žádné drsné take-downy ani hru s dechem\, jako spíše zalehávání\, zašlapávání\, hru se vzdáleností\, apod. a hlavně otevírání se potenciálu vlastního těla a nacházení příjemných cest k uspokojivé dominantně-submisivní fyzické interakci. \n  \nRezervovat\n  \nForma\nUkázky bude střídat výklad\, řízené sdílení a hlavně vaše praxe ve dvojicích. \nRegistrace\nZde přes rezervační systém. Páry si kupují 2 lístky. Jednotlivci se ozvou na email diana@dianavera.com předem a lístky si kupují až po té\, když mají jasné\, s kým jdou. Propojím vás s někým\, kdo mi taky napíše email\, že by rád šel\, ale nemá dvojici. \nPokud se neznáme osobně\, připojte prosím informaci o svých zkušenostech a\nmotivaci k vázání. \nS sebou\nŠátek na oči\, provazy\, co máte. Na místě budou po předchozí domluvě jutové\nprovazy ke koupi i k zapůjčení. Psací potřeby. Deku. Uzavíratelnou láhev na vodu do sálu. Pohodlné oblečení pro volný pohyb na zemi.\nPodložky jsou na místě. Vážeme bosí. \nKurzovné\n\n1800 Kč / osoba \n\n\nČas\n11:00 – 19:00\, včetně 1 hod na oběd\, cca 14:00 – 15:00 \nStravování\nNa oběd můžeme vyrazit společně\, v těsné blízkosti Alive Kinbaku Dojo se nachází větší množství restaurací a kaváren. \n\n\n\n\n\n\n  \n\n\n\n\n\n\n\nRezervovat\n  \n  \n\n  \n  \n\n\n 
URL:https://dianavera.com/event/dominance-provazem-a-vlastnim-telem-2/
ATTACH;FMTTYPE=image/jpeg:https://dianavera.com/wp-content/uploads/2024/10/bit-ci-nebyt-ja-scaled.jpeg
END:VEVENT
END:VCALENDAR