BEGIN:VCALENDAR
VERSION:2.0
PRODID:-//Diana Vera - ECPv6.14.2//NONSGML v1.0//EN
CALSCALE:GREGORIAN
METHOD:PUBLISH
X-WR-CALNAME:Diana Vera
X-ORIGINAL-URL:https://dianavera.com
X-WR-CALDESC:Akce na Diana Vera
REFRESH-INTERVAL;VALUE=DURATION:PT1H
X-Robots-Tag:noindex
X-PUBLISHED-TTL:PT1H
BEGIN:VTIMEZONE
TZID:Europe/Prague
BEGIN:DAYLIGHT
TZOFFSETFROM:+0100
TZOFFSETTO:+0200
TZNAME:CEST
DTSTART:20260329T010000
END:DAYLIGHT
BEGIN:STANDARD
TZOFFSETFROM:+0200
TZOFFSETTO:+0100
TZNAME:CET
DTSTART:20261025T010000
END:STANDARD
END:VTIMEZONE
BEGIN:VEVENT
DTSTART;TZID=Europe/Prague:20260126T200000
DTEND;TZID=Europe/Prague:20260126T223000
DTSTAMP:20260421T191515
CREATED:20251219T095935Z
LAST-MODIFIED:20260108T085710Z
UID:3425-1769457600-1769466600@dianavera.com
SUMMARY:Consent for riggers - večerní
DESCRIPTION:Dianin malý příspěvek k velkému tématu\nPraktický workshop\, nikoliv přednáška a beseda\nJak má rigger vést session\, aby nepřekročil hranice?\nVhodné pro jednotlivce.\n\n  \nRezervovat\n  \n\n \nTermín\n26. 1. 2026\, 20 – 22:30 \nMísto konání\nAlive Kinbaku Dojo\, Praha – Letná\, přesná adresa vám dorazí v emailu\, který vám potvrdí\, že vaše registrace byla zaplacena. V den konání kurzu prosím o vaši DOCHVILNOST\, prostor je otevřený 30min před začátkem kurzu. Po začátku už nebudete vpuštěni dovnitř. V této lokalitě je doporučeno podívat se na parkovací zóny předem a nechat si na pohodové nalezení parkovacího místa dostatek časové rezervy. \nPokročilost\nBude se vám hodit umět svázat alespoň ruce k sobě\, ovládat provaz a manipulaci s tělem. Základy můžete mít odkudkoliv\, u mě je můžete absolvovat např. 24. 1. nebo se den předem 25. 1. můžete vyladit na Ds vlnu na Dominance provazem a vlastním tělem \n  \nObsah\nPsali jste mi\, že vám v ČR schází vzdělávání riggerů\, jak vést session tak\, abychom se vyvarovali rizika překročení hranic protějšku. Samozřejmě že neexistuje jediná správná odpověď ani jistota. Ale můžeme neúnavně brousit svou schopnost intuice\, učit se skrze vlastní prožitek a přijímání\, sdílet a učit se ze zkušenosti druhých. \nNejde jen o učení modelů dávat najevo nesouhlas\, jde i o psychický stav riggera\, když nechtěně ublíží. \nTento můj večerní příspěvek k tématu KONSENTu bude praktický\, prožitkový. Delší „všeobsažná“ přednáška\, jak vést vstupní rozhovor před session je zahrnuta v mém 8 denním výcviku. \nZvu páry i jednotlivce všech pokročilostí. Zahrajeme si dvě dotekové hry. \n\n\n  \nRezervovat\n  \n\n\nRegistrace\nZde přes rezervační systém. Páry si kupují 2 lístky. \nPokud se neznáme osobně\, připojte prosím v registračním formuláři informaci o svých dosavadních zkušenostech a motivaci k vázání. \nS sebou\nŠátek na oči\, provazy\, co máte. Na místě budou po předchozí domluvě jutové\nprovazy ke koupi i k zapůjčení. Psací potřeby. Deku. Uzavíratelnou láhev na vodu do sálu. Pohodlné oblečení pro volný pohyb na zemi.\nPodložky jsou na místě. Vážeme bosí. \nKurzovné\n\n300 Kč / osoba \n\n\nČas\n20:00 – 22:30 \n\n\n\n\n\n\n\n\n\nRezervovat\n  \n\n  \n\n  \n  \n\n\n 
URL:https://dianavera.com/event/consent-for-riggers-vecerni/
ATTACH;FMTTYPE=image/jpeg:https://dianavera.com/wp-content/uploads/2023/08/IMGL8190.jpg
END:VEVENT
END:VCALENDAR