BEGIN:VCALENDAR
VERSION:2.0
PRODID:-//Diana Vera - ECPv6.14.2//NONSGML v1.0//EN
CALSCALE:GREGORIAN
METHOD:PUBLISH
X-ORIGINAL-URL:https://dianavera.com
X-WR-CALDESC:Akce na Diana Vera
REFRESH-INTERVAL;VALUE=DURATION:PT1H
X-Robots-Tag:noindex
X-PUBLISHED-TTL:PT1H
BEGIN:VTIMEZONE
TZID:Europe/Prague
BEGIN:DAYLIGHT
TZOFFSETFROM:+0100
TZOFFSETTO:+0200
TZNAME:CEST
DTSTART:20260329T010000
END:DAYLIGHT
BEGIN:STANDARD
TZOFFSETFROM:+0200
TZOFFSETTO:+0100
TZNAME:CET
DTSTART:20261025T010000
END:STANDARD
END:VTIMEZONE
BEGIN:VEVENT
DTSTART;TZID=Europe/Prague:20260205T183000
DTEND;TZID=Europe/Prague:20260205T213000
DTSTAMP:20260421T175759
CREATED:20260101T090647Z
LAST-MODIFIED:20260101T092306Z
UID:3433-1770316200-1770327000@dianavera.com
SUMMARY:Ochutnávka shibari: Svázané tělo - svobodná mysl
DESCRIPTION:Vázání shibari s sebou přináší několik fenoménů\n\nParadox svobody. Svázat\, tedy omezit na pohybu\, těžko si představit větší bezmoc\, než když odevzdáváte i vlastní tělo. A tam někde začíná skutečná volnost mysli. Už neřešíte\, jak se chováte\, jak působíte. Forma je daná\, vy jen jste..\n \nTady a teď\, přítomný okamžik\, vědomý dotek? Utíkají vám při dotýkání myšlenky? Pokud přiberete do hry provazy\, už vám utíkat nebudou. Nejefektivnější nástroj meditace.\nParadox zakoušení na vlastní kůži. Provazy jsou zcela odlišné zevnitř než vypadaly navenek. Zvenku to možná vypadá jako laciná erotika nebo zvrhlé násilí\, tak proč všichni praktikující mluví respektu a hlubokém spojení?\n\n\n\n\nRezervovat\n\n\n\n\n\nTermín\n5. 2. 2026 18:30 – 21.30\n\n\nMísto konání\nAvati centrum v Praze na Smíchově\, přesná adresa vám dorazí v emailu\, který vám potvrdí\, že vaše registrace byla zaplacena. V den konání kurzu prosím o vaši DOCHVILNOST\, prostor je otevřený 30min před začátkem kurzu. Po začátku už nebudete vpuštěni dovnitř. V této lokalitě je doporučeno podívat se na parkovací zóny předem a nechat si na pohodové nalezení parkovacího místa dostatek časové rezervy. \n\n\nCo můžete očekávat\n\n3h dotykových her s provazy i bez\, které pomohou dokonale překonat ostych nebo obavy z vázání\n\nDianin přístup těží z 12 leté praxe\, dává sessions\, vede workshopy\, provedla stovky páru\, přes tisíc jednotlivců. Její techniky jsou prosté\, funkční\, bezpečné a prověřené.\n\nWorkshop je složen z dotekových a dechových cvičení v páru\, při kterých zapojíte provaz organicky jako svoje další ruce\, kreativně bez tlaku na vytváření vzoru.\n\n\nK čemu by nám byly úvazy samotné bez schopnosti navázat skutečné spojení s partnerem? Technika provedená kvalitně a s pochopením věci\, přináší hlubší prožitek.\n\n\nVítáni jsou jak naprostí začátečníci\, tak mírně pokročilí.\n\n\n  \nRezervovat\n\n\n\n  \nRegistrace\nNa dianavera.com přes rezervační systém. Páry si kupují 2 vstupenky. Ať už se známe či neznáme osobně\, připojte prosím informaci o svých dosavadních zkušenostech v oblasti vědomého doteku\, masáží\, pohybu nebo BDSM a o svém očekávání od kurzu. V registračním formuláři je na to vyhrazené pole. \n\n\n\n\nNa tomto workshopu stejně jako pak na Výcviku „Shibari session“ vítáme jednotlivce\, kteří jsou ochotni měnit roli\, tj. svazovat i se nechat vázat. \nSingles\, pro které je v pořádku\, že se na praxi ocitnou ve dvojici se stejným pohlavím\, jako je jejich\, se mohou přihlašovat bez dalšího. Singles\, kteří požadují být ve dvojicí s opačným pohlavím\, prosím\, aby mi nejdříve napsali email na diana@dianavera.com\, kdo jsou a s kým by rádi byli. Spojím vhodné dvojice\, domluví se a pak je vyzvu k rezervaci – zakoupení vstupu. Jde mi o balancování počtu mužů a žen. Primárně pracujeme v mužsko – ženských dvojicích\, párovat se budeme na místě\, během dne potkáte více různých partnerů. \n\n\n\n\n\n\n\n  \nRezervovat\n\n\n\n\n\nS sebou\n\nNa tento workshop do Avati si vezměte minimálně 1 karimatku a 1 deku na osobu. Tzn. v páru budou 2 deky a alespoň 2 karimatky. Pokud máte tu možnost\, můžete si karimatek dovézt až 3 na osobu. Zbytek doplníme z vybavení studia.\n\nŠátek na oči\, provazy\, co máte. Na místě budou po předchozí domluvě jutové\nprovazy ke koupi i k zapůjčení. \nPohodlné oblečení pro volný pohyb na zemi.\nPodložky jsou na místě. Vážeme bosí. Pracujeme oblečení a bez oleje. \n  \nKurzovné\n\n600 Kč / 1 osoba \n\n\n\n\n\n\n\n\n  \nRezervovat\n\n\n\n\n\n\n\n\n\n\n\n\n 
URL:https://dianavera.com/event/ochutnavka-shibari-svazane-telo-svobodna-mysl/
ATTACH;FMTTYPE=image/jpeg:https://dianavera.com/wp-content/uploads/2023/08/IMG_2274-scaled.jpg
END:VEVENT
END:VCALENDAR