BEGIN:VCALENDAR
VERSION:2.0
PRODID:-//Diana Vera - ECPv6.14.2//NONSGML v1.0//EN
CALSCALE:GREGORIAN
METHOD:PUBLISH
X-WR-CALNAME:Diana Vera
X-ORIGINAL-URL:https://dianavera.com
X-WR-CALDESC:Akce na Diana Vera
REFRESH-INTERVAL;VALUE=DURATION:PT1H
X-Robots-Tag:noindex
X-PUBLISHED-TTL:PT1H
BEGIN:VTIMEZONE
TZID:Europe/Prague
BEGIN:DAYLIGHT
TZOFFSETFROM:+0100
TZOFFSETTO:+0200
TZNAME:CEST
DTSTART:20260329T010000
END:DAYLIGHT
BEGIN:STANDARD
TZOFFSETFROM:+0200
TZOFFSETTO:+0100
TZNAME:CET
DTSTART:20261025T010000
END:STANDARD
END:VTIMEZONE
BEGIN:VEVENT
DTSTART;TZID=Europe/Prague:20260207T110000
DTEND;TZID=Europe/Prague:20260207T190000
DTSTAMP:20260421T191515
CREATED:20251217T105337Z
LAST-MODIFIED:20251219T144144Z
UID:3418-1770462000-1770490800@dianavera.com
SUMMARY:FEMDOMshibari: Celodenní workshop
DESCRIPTION:TEN workshop od Diany pro dominy.\nPro páry\, kde ONA váže/dominuje nebo chce (zkusit) vázat/dominovat JEHO\nVhodné pro úplné začátečnice\, ale i pro v shibari pokročilé.\n\n  \nRezervovat\n  \n\n \nTermín\n7. 2. 2026\, 11-19:00 \nMísto konání\nAlive Kinbaku Dojo\, Praha – Letná\, přesná adresa vám dorazí v emailu\, který vám potvrdí\, že vaše registrace byla zaplacena. V den konání kurzu prosím o vaši DOCHVILNOST\, prostor je otevřený 30min před začátkem kurzu. Po začátku už nebudete vpuštěni dovnitř. V této lokalitě je doporučeno podívat se na parkovací zóny předem a nechat si na pohodové nalezení parkovacího místa dostatek časové rezervy. \nPokročilost\nVhodné pro naprosté začátečnice\, ale i pro pokročilejší. Jak to funguje? \nPo technické vázací stránce vám nabídku několik úvazů\, při praxi si je každá dvojice zkusí potud\, kam budou jejich dovednosti sahat. Úvazy zvolím podle toho\, jaká se sejde skupina\, od prostých ale funkčních po komplexnější. \nObsah\nTo\, na čem workshop bude stavět víc než na technice\, je homogenita skupiny. Dlouholetá zkušenost s vedením obdobných workshopů mě naučila\, že páry\, „které to mají obráceně“\, se mnohem líp cítí ve skupině lidí\, co to mají stejně. Fakt\, že v prostoru není přítomný muž v dominantní/aktivní roli\, nenutí ženy soupeřit a muže se porovnávat. Mohou se naplno otevřít své pravdě a přijetí. Tím pádem si workshop lépe užijí a i učení se jim daří více. \nVýuku techniky\, jak je na mých workshopech zvykem\, prokládám prožitkovými cvičeními s provazy i bez\, Mají za cíl vás vyladit\, polarizovat vaše role nebo vám navést\, jak pracovat sami se sebou nebo komunikovat spolu\, když se ocitnete v prožitku. \nProbereme rozdíly mezi vázáním mužského a ženského těla\, odlišnosti v přemýšlení i pocitech. Přidám vám své oblíbené tipy a triky\, jak na partnera\, který je větší\, těžší než vy samy nebo méně flexibilní. \nCelý workshop je rámovaný sdílením. Ve skupině podobně naladěných lidí bývá velmi obohacující. \nHravá atmosféra\, kde ony jsou královnami\, zajištěna. Jste zváni ji podpořit svou přítomností. A při tom se třeba přiučit něco ze světa provazů. \n  \n  \nRezervovat\n  \nForma\nUkázky bude střídat výklad\, řízené sdílení a hlavně vaše praxe ve dvojicích. \nRegistrace\nZde přes rezervační systém. Páry si kupují 2 lístky. Jednotlivci se ozvou na email diana@dianavera.com předem a lístky si kupují až po té\, když mají jasné\, s kým jdou. Propojím vás s někým\, kdo mi taky napíše email\, že by rád šel\, ale nemá dvojici. \nPokud se neznáme osobně\, připojte prosím informaci o svých zkušenostech a\nmotivaci k vázání. \nS sebou\nŠátek na oči\, provazy\, co máte. Na místě budou po předchozí domluvě jutové\nprovazy ke koupi i k zapůjčení. Psací potřeby. Deku. Uzavíratelnou láhev na vodu do sálu. Pohodlné oblečení pro volný pohyb na zemi.\nPodložky jsou na místě. Vážeme bosí. \nKurzovné\n\n1800 Kč / osoba \n\n\nČas\n11:00 – 19:00\, včetně 1 hod na oběd\, cca 14:00 – 15:00 \nStravování\nNa oběd můžeme vyrazit společně\, v těsné blízkosti Alive Kinbaku Dojo se nachází větší množství restaurací a kaváren. \n\n\n\n\n\n\n\n\n\n\n\n\nRezervovat\n  \n  \n\n  \n  \n\n\n 
URL:https://dianavera.com/event/celodenni_femdomshibari/
ATTACH;FMTTYPE=image/jpeg:https://dianavera.com/wp-content/uploads/2023/08/IMG_8228-scaled.jpg
END:VEVENT
END:VCALENDAR