BEGIN:VCALENDAR
VERSION:2.0
PRODID:-//Diana Vera - ECPv6.14.2//NONSGML v1.0//EN
CALSCALE:GREGORIAN
METHOD:PUBLISH
X-ORIGINAL-URL:https://dianavera.com
X-WR-CALDESC:Akce na Diana Vera
REFRESH-INTERVAL;VALUE=DURATION:PT1H
X-Robots-Tag:noindex
X-PUBLISHED-TTL:PT1H
BEGIN:VTIMEZONE
TZID:Europe/Prague
BEGIN:DAYLIGHT
TZOFFSETFROM:+0100
TZOFFSETTO:+0200
TZNAME:CEST
DTSTART:20260329T010000
END:DAYLIGHT
BEGIN:STANDARD
TZOFFSETFROM:+0200
TZOFFSETTO:+0100
TZNAME:CET
DTSTART:20261025T010000
END:STANDARD
END:VTIMEZONE
BEGIN:VEVENT
DTSTART;TZID=Europe/Prague:20260209T110000
DTEND;TZID=Europe/Prague:20260512T190000
DTSTAMP:20260421T170142
CREATED:20251105T143551Z
LAST-MODIFIED:20251218T130805Z
UID:3055-1770634800-1778612400@dianavera.com
SUMMARY:Výcvik SHIBARI SESSION - 8 denní cyklus Jaro 2026
DESCRIPTION:Pro přátelé vědomého doteku. \nVhodné pro jednotlivce. \nMaséry a masérky\, terapeuty a terapeutky těla i duše\, dominy a dominanty. \n  \n8 denní výcvik pro všechny\, kteří chtějí umět provést svůj protějšek svázáním \n\nPro profesionály i laiky v oblasti práce s tělem\nPro páry i jednotlivce\nPro začátečníky i pokročilé\n\n\nShibari – umění provazu \nSession – setkání \n  \nNauč se používat provaz jako prostředek\, který prodlouží a zintenzivní tvůj dotek. Veď pozornost partnera po jeho těle a všude tam\, kdy byly tvoje ruce\, po nich zanechávej provaz. Pochop\, jak vázání pracuje s myslí přijímajícího\, uč se pro něj držet prostor\, proveď ho zážitkem vázání – vytvoř pro něj SHIBARI SESSION 🙂 \nA získej na celé jaro 2026 podpůrnou skupinu přátel\, se stejnou zálibou\, která bude výcvikem procházet s tebou! \n  \nRezervovat\n\n\n \n\nKdy?\n4 bloky po 2 dnech\, vždy pondělí + úterý v Praze \n\n9.-10. 2. 2026\n9. -10. 3. 2026\n13.- 14. 4. 2026\n11.-12. 5. 2026\n\nPondělí vždy 11:00-19:00\, úterý vždy 10:00-18:00 \nMezi jednotlivými dny – výukovými bloky jsou nastavené úseky v řádu ca 4-5 týdnů\, které vám umožní nabyté dovednosti vždy procvičit a ověřit v praxi tak\, abyste další blok mohli začínat otázkami z praxe. Vázání se stejně jako jiné dotykové techniky zabydluje v naší svalově-hmatové paměti postupně odvisle od času\, který věnujeme této činnosti. \nObsah\n8 denní certifikovaný výcvik „SHIBARI SESSION“ sestává jednak z výuky techniky vázání a pak taky mnohých dalších souvisejících podtémat z ranku BDSM \n(Obsah jednotlivých bloků níže) \n\nkomunikace s přijímajícími\, konsent\njak nastavit bezpečnostní opatření při tak riskantní aktivitě jako je svazování\njak vést ty\, kteří se neprojevují a projevit se chtějí\nmentální hygiena dávajících\, hranice\nzda a jak moc do toho míchat dominanci a jiné praktiky\njak skrze shibari session lze něco vyléčit\n\nPůjdeme cestou pochopení i zakoušení. \n\n  \nRezervovat\n\n\nLektor\n„Říkám si Diana Vera\, jsem profesionální riggerka.“ Učím shibari\, organizuji workshopy a poskytuji svazovací setkání „shibari session“ od roku 2016. Ráda bych naší branži opět přispěla tím\, že s vámi nasdílím své letité zkušenosti. Tento výcvik pořádám již potřetí. Jeho hlavní výhodou je\, že nabízí ucelené technické i psychologické know-how\, které se do žádného mého víkendového formátu nevejde a některá cvičení\, které běžně se skupinami nedělám. \n\nPro koho?\nPÁRY i JEDNOTLIVCI? \nDvojice budeme tvořit na místě a budete se v nich střídat v dávání a přijímání. Z toho vyplývá\, že přihlášení je vhodné jak pro jednotlivce tak pro páry. \nPáry mohou po celou dobu zůstat spolu\, ale budou i zvány\, aby se rozdělily a vešly do interakce s někým ze skupiny. \nVšichni se budou střídat v rolích přijímajících i dávajících. Praxe se bude vždy 2x opakovat. Pokud se rozhodnete nevystřídat\, zopakujete si stejné cvičení. \nPáry se mohou registrovat rovnou. Jednotlivce prosím\, než jim registraci schválím\, o stručný email na diana@dianavera.com\, kde mi nastíní\, jaké jsou jejich dosavadní zkušenosti s shibari\, BDSM\, dominancí\, masážemi\, tantrou\, seberozvojem a s jakou motivací chtějí do výcviku jít. Budu dbát o vyvážený počet mužů a žen. \nLAICI i PROFESIONÁLOVÉ?\nUplynulé běhy výcviku cílily více na profesionály\, tento zve do skupiny i angažované laiky. Na to\, abyste chtěli vázání zahrnout do své praxe\, nemusíte mít nutně záměr začít poskytovat shibari sessions jako hlavní zdroj své obživy. Možná jste masérka a klienti se vás na provazy ptají. Stejně tak dobře můžete být pár\, kde vás tohle téma dlouhodobě zajímá víc i z hlediska vzájemného doprovázení se skrze transformační prožitky. \nZAČÁTEČNÍCI i POKROČILÍ?\nV minulých bězích se sešli lidé\, kteří sice provaz drželi v rukách poprvé\, ale měli nějaké zkušenosti s prací s tělem a duší jiných lidí nebo svými vlastními\, s lidmi\, kteří už celkem vázat uměli\, ale zajímal je seberozvojový\, terapeutický přesah. Takovýto mix se schází u mě i na workshopech z řady Tantric ropes\, funguje velmi obohacujícím způsobem na obě strany\, a čeká už jen na to\, až se stanete jeho součástí. \nSKUPINA\nMůj záměr je i tentokrát složit různorodou a při tom velmi kompaktní skupinu masérů a masérek\, terapeutů\, léčitelů\, pedagogů\, domin a  jednoduše lidí\, které „výcvik zavolal pro jejich osobní seberozvojovou potřebu“. \nSkupina bude uzavřená po celou dobu. Jsme tak schopni se dostat hlouběji do problematiky\, poznat se navzájem a rozvíjet svá osobní témata\, v čase mezi bloky na pozadí sounáležitosti se skupinou. \nBudeme se pohybovat v rozmezí 8-14 dvojic\, hostit nás bude velký sál klubu Ateliér\, kde je pro každého místa dost. Pokud máte obavy z „takto intimní“ aktivity na „veřejném workshopu“\, věřte\, že workshopy jsou stavěné tak\, abyste si při praxi každý hleděli svého\, což se taky děje. A jestliže chcete své obavy rozptýlit věcně\, srdečně zvu na jakýkoliv svůj kurz pro začínající. \n  \nRezervovat\n\nBloky\n\nKaždý blok má svoje téma a s ním je spojený konkrétní úvaz. Výuka techniky sestává z vysvětlení (komentovaná ukázka)\, „step by step“ učení\, kdy kopírujete přesně\, co je vám ukazováno\, instruktáží\, jak zacházet s tělem a provazem\, a doplňuje ji zdravotní minimum pro každý úvaz. Blok bude rámován skupinovým sdílením a jeho těžištěm bude vždy vaše praxe ve dvojicích. \nCo můžete očekávat v JEDNOTLIVÝCH blocích?\n\nBLOK\n\nShibari a odevzdání se. \nNa chvíli nemuset věci kontrolovat je nejčastější požadavek mých klientů. Zakusit na fyzické úrovni odevzdání kontroly\, relaxuje tělo i mysl v daný okamžik a trvale přepisuje přesvědčení o naší moci a bezmoci v civilním životě. První blok bude patřit úvazům s rukama před tělem\, které jsou emočně pro přijímajícího nejbezpečnější a usnadňují mu tak vstup do navazujících častí session. Jde prakticky o prvotní uvolnění. Slovy maséra „Dříve než vám v provazech změkne\, není vhodné pokračovat k náročnějším úvazům a praktikám“. \nShibari a dominance.\nMizanscéna – pozice těl vůči sobě navzájem\, která je vyjádřením jejich vztahu. Je klíčové\, „jak se k tomu postavit“. Prakticky tělem svým dominujete tělu partnera\, neděláte to zdaleka jen rukama a provazem\, činíte tak celým svým tělem\, svým postojem\, jakýmkoliv dotekem\, záměrem. Esence mého stylu spočívá v tom „být nahoře“\, „být v kontaktu“\, ale „být v kontrole za oba“ a neustále dávat veškerou pozornost\, zvát k reakcím na podněty\, reagovat na reakce\, držet prostor před\, v průběhu a po session. Technicky půjde v tomto dni především o výuku bodymechaniky. \n\n  \n2. BLOK \n\nShibari a bezmoc.\nSvazování je v naší mysli spojeno především s nemožností pohybu. Tento blok bude věnovaný vázání rukou za zády\, potažmo kvalitnímu\, bezpečnému\, pohodlnému a na nějakou dobu snesitelnému hrudnímu úvazu\, který začíná zkroucením rukou vzad – takate kote. S tímto úvazem pak budeme vytvářet první celotělové pozice zahrnující nohy\, ebi a hogtie. \n  \n\nShibari je dialog \nJedna věc je komunikace o vázání\, tedy\, jak si vyjednat\, co se bude během session dít. Zcela odlišná věc je pak komunikace během vázání. Tím\, že partnerovi berete možnost se vyjádřit pohybem\, zvete ho k tomu\, aby hledal jiné možnosti sebevyjádření a komunikace. Budeme se učit číst tělo a jeho reakce a rozšiřovat váš dosavadní komunikační arzenál o nové nástroje. Skloňovat budeme s obřím důrazem pozornost a pomalost. \n  \n3. BLOK \nAshi a částečné závěsy \nPo technické stránce nejpoptávanější téma\, o které bylo třeba rozšířit dosavadní koncept výcviku. Vázání nohou k sobě umocňuje pocity bezmoci a rozšiřuje paletu úvazů\, které jste schopni aplikovat i bez závěsných bodů. Částečné závěsy pak vašim dovednostem přidávají na modulárnosti\, tady jde především o bezpečné ovládnutí technického provedení závěsného provazu. Jakmile v tom získáte jistotu\, otevře se vám prostor improvizovat a vyhovět jinakosti každého jednoho těla. \n  \n\nShibari a ostatní praktiky.\nDruhé nejpoptávanější téma. Už jste provazem partnera vtáhli do hry\, zmocnili se jeho těla a ovládli jeho pohyb. Fantazie vázaných se často ubírají směrem „A co se bude dít\, až budu bezmocný a nebudu o tom moci rozhodovat?“ Je tu nepřeberné množství praktik\, se kterými lze vázání kombinovat\, ať už jde o působení bolesti nebo studu\, bití na nejrůznější způsoby\, hru s dechem nebo se vzrušením\, smyslovou deprivaci či nejrůznější fetishe\, role\, atd. Vřazení další praktiky často přichází jako pomyslný vrchol/účel dané pozice\, jako pointa sekvence svázat-něco provést-rozvázat. Podělím se s vámi o své oblíbené pointy\, ale především vás vyzvu k hledání těch\, které budou autentickým vyjádřením vašich potřeb. \n\n  \n4. BLOK \n\nShibari a intimita \nIntimní partie k tělu jednoznačně patří\, je čistě na dohodě dávajícího a přijímajícího\, zda je chtějí do bondage taky zahrnout. Ukážu vám způsoby\, jak vést provaz a tím pozornost přijímajícícho do klína k pohlaví\, jak zacházet se vzrušením\, eliminovat nepříjemné pocity\, kdy bondage pohlaví zařadit a jak se na ní domlouvat před akcí samotnou. V tomto dni obzvlášť si každý z vás nastaví své hranice sám ve své dvojici. Bude ukázka přes oblečení i v nahotě a především v dobré hravé atmosféře. V předchozích bězích jsme pro úplně každého našli způsob\, jak se účastnit praxe tak\, aby mu nebyly překročeny hranice. \n  \nShibari a terapie.\nTvorba session od A do Z. Začíná to záměrem\, přijímajícího i dávajícího. Doplníme\, co ještě nebylo řečeno a zakuseno\, jako je udržování kontaktu s přijímajícím mimo rámec session\, jaké informace poskytnout předem\, jak vést úvodní rozhovor\, jak dát aftercare\, jak moc vlastně session předem promýšlet\, aby se naše záměry naplnily\, jak moc improvizovat\, jak moc komunikovat během session verbálně\, jak vyhodnocovat zdravotní a bezpečnostní rizika. Především kolem záměru se bude točit i zadání pro poslední praxi. \nPříjemným bonusem na závěr výcviku pak bude Osvědčení o absolvování kurzu\, jakož i průběžná podpora ve formě whatsupové skupiny a drobných videí\, která si v průběhu kurzu vytvoříme. \n\n  \nRezervovat\n\n\n\nCena\n3.600 Kč/osoba/blok \nMísto na celém výcviku si zabookujete platbou (za 4. blok) předem přes registrační formulář zde na webu. Každý další blok pak platíte na místě\, kromě 4. bloku\, který už máte předplacený. Pokud z výcviku vystoupíte dříve\, platba za 4. blok se nevrací. \n\n  \nMísto konání a stravování\nKlub Ateliér\, Služeb 3a\, Praha – Hostivař\, parking v přilehlých ulicích\, MHD: Depo Hostivař \n\nOběd si dáme vždy společně v prostorách restaurace klubu nebo si můžete donést krabičku\, restaurace v okolí se nenacházejí. \nS sebou\, materiál\nDeku a šátek na oči. Pohodlné oblečení\, psací potřeby\, láhev na vodu. Svetřík a ponožky pro chladnější dny\, ručník a tričko navíc pro dny\, kdy hrozí pocení. Sprcha a podložky jsou na místě. Vážeme bosí. \nProvazy\, co máte\, vezměte určitě s sebou. Na místě budou provazy k zapůjčení i k zakoupení\, tzn. předem nic kupovat nemusíte. \n\n\n\nRezervovat
URL:https://dianavera.com/event/vycvik-shibari-session-3-beh/
ATTACH;FMTTYPE=image/jpeg:https://dianavera.com/wp-content/uploads/2025/10/hanny_bez_loga.jpg
END:VEVENT
BEGIN:VEVENT
DTSTART;TZID=Europe/Prague:20260510T110000
DTEND;TZID=Europe/Prague:20260510T190000
DTSTAMP:20260421T170142
CREATED:20260205T133651Z
LAST-MODIFIED:20260310T075343Z
UID:3444-1778410800-1778439600@dianavera.com
SUMMARY:Tantric ropes: Souhlas a hranice v shibari praxi
DESCRIPTION:Konsent\, kruh souhlasu\, individuální hranice a potřeby\, cvičení s provazem zaměřená na tok energie v páru. Softskills\, které ještě nevíte\, že je chcete mít. Učení se zakoušením\, nikoliv jen beseda\, kde se nachytříte.\n\n\n  \nRezervace\n\n\n\n\n\n\n\n\n\nTermín\n10. 5. 2026 11-19:00 \nvolně navazuje neděle 10. 5. s workshopem Tantric ropes: Souhlas a hranice v shibari praxi \nzačátečníkům je doporučena účast 8. 5. na Pevné základy shibari \nMísto konání\nAlive Kinbaku Dojo\, Praha – Letná\, přesná adresa vám dorazí v emailu\, který vám potvrdí\, že vaše registrace byla zaplacena. V den konání kurzu prosím o vaši DOCHVILNOST\, prostor je otevřený 30min před začátkem kurzu. Po začátku už nebudete vpuštěni dovnitř. V této lokalitě je doporučeno podívat se na parkovací zóny předem a nechat si na pohodové nalezení parkovacího místa dostatek časové rezervy. \n  \nPokročilost\nPo technické stránce kurz zvládne každý\, kdo má minimálně základy. \nTéma souhlasu\, hranic a potřeb je velmi vhodné v začátcích vaší provazové cesty. Nicméně čím dál po ní postupujete\, přicházíte na to\, že je to téma čím dál důležitější a hlavně\, že se váš pohled na věc kontinuálně vyvíjí úměrně vaší praxi. \n  \nObsah\nDen je rámovaný sdílením v kruhu a obsahuje cvičení s provazem i bez stavěných tak\, abyste měli prostor objevit\, kde jsou vaše silné a kde slabé stránky stran souhlasu\, hranic a potřeb. Ty silné znáte\, dáváte jim prostor\, ale ty slabé potřebují přijmout a vyživit. Workshop vás zve do prožitku\, je sebezkušenostní. Proběhne vždy ukázka a pak vaše praxe ve dvojicích. \n  \nMožná jste chroničtí dávači\, aktivní role vás opravdu naplňuje\, ale občas absentujete vděk a úctu svých protějšků? \nMožná se děsíte okamžiku\, kdy někomu překročíte hranice a nepoznáte to. \nMožná znáte situaci\, kdy raději něco snesete\, než abyste protějšku sáhodlouze vysvětlovali\, co vám vadí. Možná se i bojíte\, že byste tím zkazili atmosféru? \nMožná znáte ten blbý pocit na druhý den\, kdy vám dojde\, že jste si hranice nechali sami překročit? \nMožná vás váš partner nevnímá nebo nerozumí vašim potřebám tak\, jak byste si vy představovali? \nMožná nemáte stálý protějšek v provazech\, protože si s nikým úplně nesednete? \nMožná vážete tak trochu na výkon\, rádi dosahujete maxima za jakoukoliv cenu? \n  \nOdměnou za odvahu dát prostor i věcem\, které nejsou zkraje příjemné\, jsou úžasné pocity sebepřijetí\, které se v důsledku promítají nejen do vaší provazové praxe\, ale hlavně do civilního života a mezilidských vztahů. Lektor je tu od toho\, aby vám při této cestě podržel prostor\, aby se proces mohl dít. \n\n\n\n\n\n\n\n\n  \nRezervace\n\n\n\n\n\n\n\n\n\nRegistrace\nNa dianavera.com přes rezervační systém. Páry si kupují 2 vstupy. Pokud se neznáme osobně\, připojte prosím informaci o svých zkušenostech a motivaci k vázání. \nSpeciálně na začátku jsou lidi nejčastěji bez vhodného protějšku. Pokud o workshop máte zájem\, ale jste single\, napište mi email na diana@dianavera.com\, kdo jste a s kým byste rádi vázali. Připojte informaci\, zda už máte nějaké praktické zkušenosti\, s bondage\, masážemi\, pohybem\, seberozvojovými kurzy. Uveďte\, odkud přibližně jste\, jak jste staří\, zda jste otevření střídání rolí nebo vázání se stejným pohlavím. Propojím vás s někým\, kdo mi taky napíše email\, že by rád šel\, ale nemá dvojici. Můžete se seznámit a přihlásit jako dvojice. \n\n\n\n\n\n\n\n\n  \nRezervace\n\n\n\n\nS sebou\n\n\n\n\n\nŠátek na oči\, provazy\, co máte. Na místě budou po předchozí domluvě jutové\nprovazy ke koupi i k zapůjčení. Deku. Pohodlné oblečení pro volný pohyb na zemi.\nPodložky jsou na místě. Vážeme bosí. \nKurzovné\n\n1.800 Kč / osoba \nČas\n11:00 – 19:00\, včetně 1 hod na oběd\, cca 14:00 – 15:00 \nStravování\nNa místě je možné si uvařit čaj či kávu\, zakoupit nealko či drobné občerstvení. Bývá fajn mít s sebou  sladkou svačinku na doplnění rychlých cukrů. Na oběd si můžete donést krabičku nebo vyrazit do některé z restaurací v okolí. \n\n\n\n\n\n\n\n\n  \nRezervace\n\n\n\n\n\n\n\n\n\n\n\n 
URL:https://dianavera.com/event/tantric-ropes-souhlas-a-hranice-v-shibari-praxi/
ATTACH;FMTTYPE=image/jpeg:https://dianavera.com/wp-content/uploads/2024/02/41-DSCF2252-scaled.jpg
END:VEVENT
END:VCALENDAR